BEGIN:VCALENDAR
VERSION:2.0
PRODID:-//Richmond Fire-Rescue - ECPv6.15.17.1//NONSGML v1.0//EN
CALSCALE:GREGORIAN
METHOD:PUBLISH
X-WR-CALNAME:Richmond Fire-Rescue
X-ORIGINAL-URL:https://firerescue1tst.richmond.ca
X-WR-CALDESC:Events for Richmond Fire-Rescue
REFRESH-INTERVAL;VALUE=DURATION:PT1H
X-Robots-Tag:noindex
X-PUBLISHED-TTL:PT1H
BEGIN:VTIMEZONE
TZID:America/Vancouver
BEGIN:DAYLIGHT
TZOFFSETFROM:-0800
TZOFFSETTO:-0700
TZNAME:PDT
DTSTART:20200308T100000
END:DAYLIGHT
BEGIN:STANDARD
TZOFFSETFROM:-0700
TZOFFSETTO:-0800
TZNAME:PST
DTSTART:20201101T090000
END:STANDARD
BEGIN:DAYLIGHT
TZOFFSETFROM:-0800
TZOFFSETTO:-0700
TZNAME:PDT
DTSTART:20210314T100000
END:DAYLIGHT
BEGIN:STANDARD
TZOFFSETFROM:-0700
TZOFFSETTO:-0800
TZNAME:PST
DTSTART:20211107T090000
END:STANDARD
BEGIN:DAYLIGHT
TZOFFSETFROM:-0800
TZOFFSETTO:-0700
TZNAME:PDT
DTSTART:20220313T100000
END:DAYLIGHT
BEGIN:STANDARD
TZOFFSETFROM:-0700
TZOFFSETTO:-0800
TZNAME:PST
DTSTART:20221106T090000
END:STANDARD
END:VTIMEZONE
BEGIN:VEVENT
DTSTART;TZID=America/Vancouver:20210605T000000
DTEND;TZID=America/Vancouver:20210606T235900
DTSTAMP:20260420T023120
CREATED:20200207T044211Z
LAST-MODIFIED:20200611T235120Z
UID:2235-1622851200-1623023940@firerescue1tst.richmond.ca
SUMMARY:Doors Open Richmond
DESCRIPTION:Doors\nOpen is an annual\, free two-day event presented by the Richmond Museum.  \n\n\n\nRichmond\nFire-Rescue is one of many City of Richmond locations open to the public. This\nyear’s event is being held at the Brighouse Fire hall\, located at 6960 Gilbert\nRoad.  \n\n\n\nCome\nby and see the fire hall\, get hands-on with a live fire hose\, see inside the\nfire trucks and get a picture with our very own Blaze.  \n\n\n\nSee\nyou here\, June 6 and 7\, between 10:00 a.m. and 2:00 p.m.
URL:https://firerescue1tst.richmond.ca/community/event-calendar/event/doors-open-richmond/
LOCATION:Brighouse Fire Hall No. 1\, 6960 Gilbert Road\, Richmond\, BC\, V7C 3V4\, Canada
CATEGORIES:Community Event
ATTACH;FMTTYPE=image/jpeg:https://firerescue1tst.richmond.ca/wp-content/uploads/2020/02/doors-open-01.jpg
END:VEVENT
END:VCALENDAR